BEGIN:VCALENDAR
PRODID:-//eluceo/ical//2.0/EN
VERSION:2.0
CALSCALE:GREGORIAN
BEGIN:VEVENT
UID:faa58fec5cbfe55cbb9136530292f134
DTSTAMP:20260421T100324Z
SUMMARY:ADVENTSMARKT BADEN
DESCRIPTION:Vefsíða: https://www.badener-adventsmarkt.ch/
URL:https://rc-wettingen.ch/is/agenda/show/200079
DTSTART;TZID=Europe/Zurich:20251206T090000
DTEND;TZID=Europe/Zurich:20251206T170000
LOCATION:Baden\, Glühweinstand Löwenbrunnen
CATEGORIES:Rotary
END:VEVENT
BEGIN:VTIMEZONE
TZID:Europe/Zurich
BEGIN:STANDARD
DTSTART:20251206T090000
TZNAME:CET
TZOFFSETTO:+0100
TZOFFSETFROM:+0100
END:STANDARD
END:VTIMEZONE
END:VCALENDAR
