BEGIN:VCALENDAR
PRODID:-//eluceo/ical//2.0/EN
VERSION:2.0
CALSCALE:GREGORIAN
BEGIN:VEVENT
UID:25b5bcc3e98377ec2da7c29ddda629a1
DTSTAMP:20260421T125959Z
SUMMARY:SUPPENTAG
DESCRIPTION:
URL:https://rc-wettingen.ch/is/agenda/show/199867
DTSTART;TZID=Europe/Zurich:20251106T113000
DTEND;TZID=Europe/Zurich:20251106T200000
LOCATION:Rathausplatz Wettingen
CATEGORIES:Rotary
END:VEVENT
BEGIN:VTIMEZONE
TZID:Europe/Zurich
BEGIN:STANDARD
DTSTART:20251106T113000
TZNAME:CET
TZOFFSETTO:+0100
TZOFFSETFROM:+0100
END:STANDARD
END:VTIMEZONE
END:VCALENDAR
