BEGIN:VCALENDAR
PRODID:-//eluceo/ical//2.0/EN
VERSION:2.0
CALSCALE:GREGORIAN
BEGIN:VEVENT
UID:b500bf3f3f5021ef86f15a8b0b1041b5
DTSTAMP:20260419T210250Z
SUMMARY:ADVENTSMARKT BADEN
DESCRIPTION:Vefsíða: https://www.badener-adventsmarkt.ch/
URL:https://rc-wettingen.ch/is/agenda/show/157579
DTSTART;TZID=Europe/Zurich:20231209T090000
DTEND;TZID=Europe/Zurich:20231209T170000
LOCATION:Baden\, Kirchplatz
CATEGORIES:Rotary
END:VEVENT
BEGIN:VTIMEZONE
TZID:Europe/Zurich
BEGIN:STANDARD
DTSTART:20231209T090000
TZNAME:CET
TZOFFSETTO:+0100
TZOFFSETFROM:+0100
END:STANDARD
END:VTIMEZONE
END:VCALENDAR
