BEGIN:VCALENDAR
PRODID:-//eluceo/ical//2.0/EN
VERSION:2.0
CALSCALE:GREGORIAN
BEGIN:VEVENT
UID:fcf57bccbe7e113ab77b6c793d9cd40e
DTSTAMP:20260421T132153Z
SUMMARY:Zoom-Meeting -> Wir treffen uns online
DESCRIPTION:Conférencier(s): Der Anmelde-Link wird allen ClubmitgliederInn
 en vorgängig per Mail zugestellt.
URL:https://rc-wettingen.ch/fr/agenda/show/111774
DTSTART;TZID=Europe/Zurich:20200417T193000
DTEND;TZID=Europe/Zurich:20200417T210000
LOCATION:-
CATEGORIES:Rotary
END:VEVENT
BEGIN:VTIMEZONE
TZID:Europe/Zurich
BEGIN:DAYLIGHT
DTSTART:20200417T193000
TZNAME:CEST
TZOFFSETTO:+0200
TZOFFSETFROM:+0200
END:DAYLIGHT
END:VTIMEZONE
END:VCALENDAR
