BEGIN:VCALENDAR
PRODID:-//eluceo/ical//2.0/EN
VERSION:2.0
CALSCALE:GREGORIAN
BEGIN:VEVENT
UID:9d619cafd28e12ac9e3b53572cce1a7b
DTSTAMP:20260420T002508Z
SUMMARY:ADVENTSMARKT BADEN
DESCRIPTION:Sitio web: https://www.badener-adventsmarkt.ch/
URL:https://rc-wettingen.ch/es/agenda/show/174622
DTSTART;TZID=Europe/Zurich:20241207T090000
DTEND;TZID=Europe/Zurich:20241207T170000
LOCATION:Baden\, Glühweinstand Löwenbrunnen
CATEGORIES:Rotary
END:VEVENT
BEGIN:VTIMEZONE
TZID:Europe/Zurich
BEGIN:STANDARD
DTSTART:20241207T090000
TZNAME:CET
TZOFFSETTO:+0100
TZOFFSETFROM:+0100
END:STANDARD
END:VTIMEZONE
END:VCALENDAR
